BEGIN:VCALENDAR
VERSION:2.0
PRODID:-//Cuban American Association of Civil Engineers - ECPv6.15.20//NONSGML v1.0//EN
CALSCALE:GREGORIAN
METHOD:PUBLISH
X-ORIGINAL-URL:https://c-aace.org
X-WR-CALDESC:Events for Cuban American Association of Civil Engineers
REFRESH-INTERVAL;VALUE=DURATION:PT1H
X-Robots-Tag:noindex
X-PUBLISHED-TTL:PT1H
BEGIN:VTIMEZONE
TZID:UTC
BEGIN:STANDARD
TZOFFSETFROM:+0000
TZOFFSETTO:+0000
TZNAME:UTC
DTSTART:20150101T000000
END:STANDARD
END:VTIMEZONE
BEGIN:VTIMEZONE
TZID:America/New_York
BEGIN:DAYLIGHT
TZOFFSETFROM:-0500
TZOFFSETTO:-0400
TZNAME:EDT
DTSTART:20150308T070000
END:DAYLIGHT
BEGIN:STANDARD
TZOFFSETFROM:-0400
TZOFFSETTO:-0500
TZNAME:EST
DTSTART:20151101T060000
END:STANDARD
BEGIN:DAYLIGHT
TZOFFSETFROM:-0500
TZOFFSETTO:-0400
TZNAME:EDT
DTSTART:20160313T070000
END:DAYLIGHT
BEGIN:STANDARD
TZOFFSETFROM:-0400
TZOFFSETTO:-0500
TZNAME:EST
DTSTART:20161106T060000
END:STANDARD
BEGIN:DAYLIGHT
TZOFFSETFROM:-0500
TZOFFSETTO:-0400
TZNAME:EDT
DTSTART:20170312T070000
END:DAYLIGHT
BEGIN:STANDARD
TZOFFSETFROM:-0400
TZOFFSETTO:-0500
TZNAME:EST
DTSTART:20171105T060000
END:STANDARD
END:VTIMEZONE
BEGIN:VEVENT
DTSTART;TZID=UTC:20241115T180000
DTEND;TZID=UTC:20241115T210000
DTSTAMP:20260426T002521
CREATED:20241024T232529Z
LAST-MODIFIED:20241104T011515Z
UID:5391-1731693600-1731704400@c-aace.org
SUMMARY:Grateful Gathering: Food Drive and Network Social
DESCRIPTION:
URL:https://c-aace.org/event/grateful-gathering-food-drive-and-network-social/
LOCATION:Bayshore Club\, 3391 Pan American Drive\, Miami\, FL\, 33133\, United States
END:VEVENT
BEGIN:VEVENT
DTSTART;TZID=UTC:20241012T180000
DTEND;TZID=UTC:20241012T210000
DTSTAMP:20260426T002521
CREATED:20240919T232745Z
LAST-MODIFIED:20240919T232805Z
UID:5351-1728756000-1728766800@c-aace.org
SUMMARY:63 Annual Engineer's Gala
DESCRIPTION:Join us at the 63rd Annual Gala at Parrot Jungle\, Miami to celebrate the engineering and construction industries. \n 
URL:https://c-aace.org/event/63-annual-engineers-gala/
LOCATION:Parrot Jungle\, 1111 Parrot Jungle Trail\, Miami\, FL\, 33132\, United States
ORGANIZER;CN="Maria Porrata":MAILTO:mfporrata@gmail.com
END:VEVENT
BEGIN:VEVENT
DTSTART;TZID=UTC:20161103T180000
DTEND;TZID=UTC:20161103T210000
DTSTAMP:20260426T002521
CREATED:20161018T185602Z
LAST-MODIFIED:20161018T185605Z
UID:4706-1478196000-1478206800@c-aace.org
SUMMARY:2016 CAACE South Florida Transportation Panel
DESCRIPTION:  \n 
URL:https://c-aace.org/event/2016-caace-south-florida-transportation-panel/
LOCATION:Miami Airport Hilton\, 5101 Blue Lagoon Dr.\, Miami\, FL\, 33126\, United States
END:VEVENT
BEGIN:VEVENT
DTSTART;TZID=UTC:20161026T180000
DTEND;TZID=UTC:20161026T200000
DTSTAMP:20260426T002521
CREATED:20161018T190614Z
LAST-MODIFIED:20161018T190628Z
UID:4709-1477504800-1477512000@c-aace.org
SUMMARY:CAACE Engineering Dean's Reception
DESCRIPTION:
URL:https://c-aace.org/event/caace-engineering-deans-reception/
LOCATION:Coral Gables Museum\, 285 Aragon Avenue\, Coral Gables\, FL\, 33134\, United States
END:VEVENT
BEGIN:VEVENT
DTSTART;TZID=UTC:20160616T080000
DTEND;TZID=UTC:20160616T170000
DTSTAMP:20260426T002521
CREATED:20160611T143212Z
LAST-MODIFIED:20160611T143212Z
UID:4251-1466064000-1466096400@c-aace.org
SUMMARY:2016 Tri-County Workshop
DESCRIPTION:http://www.eventbrite.com/e/2016-asce-tri-county-workshop-the-state-and-future-of-south-floridas-infrastructure-organized-by-tickets-24225223295
URL:https://c-aace.org/event/2016-tri-county-workshop/
LOCATION:FL
END:VEVENT
BEGIN:VEVENT
DTSTART;TZID=UTC:20160503T180000
DTEND;TZID=UTC:20160503T200000
DTSTAMP:20260426T002521
CREATED:20160421T223112Z
LAST-MODIFIED:20160421T223112Z
UID:4177-1462298400-1462305600@c-aace.org
SUMMARY:Sponsor and Member Appreciation Social
DESCRIPTION:
URL:https://c-aace.org/event/sponsor-and-member-appreciation-social/
LOCATION:Ball & Chain
END:VEVENT
BEGIN:VEVENT
DTSTART;TZID=UTC:20160319T190000
DTEND;TZID=UTC:20160319T235500
DTSTAMP:20260426T002521
CREATED:20160203T230044Z
LAST-MODIFIED:20160203T230044Z
UID:4102-1458414000-1458431700@c-aace.org
SUMMARY:2016 CAACE Annual Gala
DESCRIPTION:
URL:https://c-aace.org/event/2016-caace-annual-gala/
LOCATION:Miami Airport Hilton\, 5101 Blue Lagoon Dr.\, Miami\, FL\, 33126\, United States
ORGANIZER;CN="Maria Porrata":MAILTO:mfporrata@gmail.com
END:VEVENT
BEGIN:VEVENT
DTSTART;TZID=America/New_York:20160227T084500
DTEND;TZID=America/New_York:20160227T120000
DTSTAMP:20260426T002521
CREATED:20160207T200202Z
LAST-MODIFIED:20160207T200225Z
UID:4114-1456562700-1456574400@c-aace.org
SUMMARY:2016 Cuba Infrastructure Scholarship Competition
DESCRIPTION:
URL:https://c-aace.org/event/2016-cuba-infrastructure-scholarship-competition/
LOCATION:Casa Bacardi\, 1531 Brescia Avenue\, Coral Gables
ORGANIZER;CN="Maria Porrata":MAILTO:mfporrata@gmail.com
END:VEVENT
END:VCALENDAR